BEGIN:VCALENDAR
VERSION:2.0
PRODID:-//wp-events-plugin.com//7.2.3.1//EN
TZID:Europe/London
X-WR-TIMEZONE:Europe/London
BEGIN:VEVENT
UID:786@colnevalleypark.org.uk
DTSTART;TZID=Europe/London:20221113T093000
DTEND;TZID=Europe/London:20221113T123000
DTSTAMP:20230816T110707Z
URL:https://www.colnevalleypark.org.uk/events/volunteer-task-at-hardings-r
 ow-nature-reserve-2022-11-13/
SUMMARY:Volunteer Task at Hardings Row Nature Reserve
DESCRIPTION:Conservation activities will be discussed and decided upon by t
 he group at the start of the session. Join us for some fresh air\, exercis
 e and good company and help make a positive impact on this precious green 
 space.
ATTACH;FMTTYPE=image/jpeg:https://www.colnevalleypark.org.uk/wp-content/up
 loads/2023/02/HardingsRowVolunteers120223highres.jpg
LOCATION:Hardings Row Nature Reserve\, At the end of Hardings Row\, Iver He
 ath\, SL0 0HH\, United Kingdom
GEO:51.532729;-0.523515
X-APPLE-STRUCTURED-LOCATION;VALUE=URI;X-ADDRESS=At the end of Hardings Row\
 , Iver Heath\, SL0 0HH\, United Kingdom;X-APPLE-RADIUS=100;X-TITLE=Harding
 s Row Nature Reserve:geo:51.532729,-0.523515
END:VEVENT
BEGIN:VTIMEZONE
TZID:Europe/London
X-LIC-LOCATION:Europe/London
BEGIN:STANDARD
DTSTART:20221030T010000
TZOFFSETFROM:+0100
TZOFFSETTO:+0000
TZNAME:GMT
END:STANDARD
END:VTIMEZONE
END:VCALENDAR