BEGIN:VCALENDAR
VERSION:2.0
PRODID:-//wp-events-plugin.com//7.2.3.1//EN
TZID:Europe/London
X-WR-TIMEZONE:Europe/London
BEGIN:VEVENT
UID:559@colnevalleypark.org.uk
DTSTART;TZID=Europe/London:20220726T103000
DTEND;TZID=Europe/London:20220726T160000
DTSTAMP:20220706T100217Z
URL:https://www.colnevalleypark.org.uk/events/visit-hillingdon-narrowboats
 /
SUMMARY:Visit Hillingdon Narrowboats
DESCRIPTION:Tuesday is a regular volunteer day at Hillingdon Narrowboats\, 
 anyone is welcome to drop down and have a chat.
ATTACH;FMTTYPE=image/jpeg:https://www.colnevalleypark.org.uk/wp-content/up
 loads/2022/06/Hilllingdon-Narrowboat-Assocation-visit.jpg
LOCATION:Hillingdon Narrowboats Association\, Hillingdon Narrowboats Associ
 ation\, Summerhouse Lane\, Harefield\, \, UB9 6HX\, United Kingdom
GEO:51.611697;-0.49782
X-APPLE-STRUCTURED-LOCATION;VALUE=URI;X-ADDRESS=Hillingdon Narrowboats Asso
 ciation\, Summerhouse Lane\, Harefield\, \, UB9 6HX\, United Kingdom;X-APP
 LE-RADIUS=100;X-TITLE=Hillingdon Narrowboats Association:geo:51.611697,-0.
 49782
END:VEVENT
BEGIN:VTIMEZONE
TZID:Europe/London
X-LIC-LOCATION:Europe/London
BEGIN:DAYLIGHT
DTSTART:20220327T020000
TZOFFSETFROM:+0000
TZOFFSETTO:+0100
TZNAME:BST
END:DAYLIGHT
END:VTIMEZONE
END:VCALENDAR