BEGIN:VCALENDAR
VERSION:2.0
PRODID:-//wp-events-plugin.com//7.2.3.1//EN
TZID:Europe/London
X-WR-TIMEZONE:Europe/London
BEGIN:VEVENT
UID:1240@colnevalleypark.org.uk
DTSTART;TZID=Europe/London:20250505T130000
DTEND;TZID=Europe/London:20250505T170000
DTSTAMP:20250422T105918Z
URL:https://www.colnevalleypark.org.uk/events/ve-day-picnic-at-southlands-
 arts-centre/
SUMMARY:VE Day Picnic at Southlands Arts Centre
DESCRIPTION:Southlands Arts invite you to join them for a nostalgic VE Day 
 Picnic to celebrate the 80th Anniversary of VE Day on Bank Holiday Monday\
 , 5th May.
ATTACH;FMTTYPE=image/jpeg:https://www.colnevalleypark.org.uk/wp-content/up
 loads/2025/04/SouthlandsArtsVEPicnic050525square.png
CATEGORIES:Museum and open days
LOCATION:Southlands Art Centre\, 75 The Green\, West Drayton\, UB7 7PW\, Un
 ited Kingdom
GEO:51.501562;-0.475841
X-APPLE-STRUCTURED-LOCATION;VALUE=URI;X-ADDRESS=75 The Green\, West Drayton
 \, UB7 7PW\, United Kingdom;X-APPLE-RADIUS=100;X-TITLE=Southlands Art Cent
 re:geo:51.501562,-0.475841
END:VEVENT
BEGIN:VTIMEZONE
TZID:Europe/London
X-LIC-LOCATION:Europe/London
BEGIN:DAYLIGHT
DTSTART:20250330T020000
TZOFFSETFROM:+0000
TZOFFSETTO:+0100
TZNAME:BST
END:DAYLIGHT
END:VTIMEZONE
END:VCALENDAR