BEGIN:VCALENDAR
VERSION:2.0
PRODID:-//wp-events-plugin.com//7.2.3.1//EN
TZID:Europe/London
X-WR-TIMEZONE:Europe/London
BEGIN:VEVENT
UID:1333@colnevalleypark.org.uk
DTSTART;TZID=Europe/London:20250910T100000
DTEND;TZID=Europe/London:20250911T180000
DTSTAMP:20250628T161200Z
URL:https://www.colnevalleypark.org.uk/events/the-agroforestry-show-2025-a
 t-woodoaks-farm/
SUMMARY:The Agroforestry Show 2025 at Woodoaks Farm
DESCRIPTION:Join Woodoaks Farm for two incredible days dedicated to the fut
 ure of farming\, forestry and sustainable land management.
ATTACH;FMTTYPE=image/jpeg:https://www.colnevalleypark.org.uk/wp-content/up
 loads/2025/06/Agroforestry-Show-10th-to-11th-September-Woodoaks-Farm.png
LOCATION:Woodoaks Farm\, Woodoaks Farm Cottages\, Denham Way\, Maple Cross\
 , WD3 9XQ\, United Kingdom
GEO:51.628289;-0.50989
X-APPLE-STRUCTURED-LOCATION;VALUE=URI;X-ADDRESS=Woodoaks Farm Cottages\, De
 nham Way\, Maple Cross\, WD3 9XQ\, United Kingdom;X-APPLE-RADIUS=100;X-TIT
 LE=Woodoaks Farm:geo:51.628289,-0.50989
END:VEVENT
BEGIN:VTIMEZONE
TZID:Europe/London
X-LIC-LOCATION:Europe/London
BEGIN:DAYLIGHT
DTSTART:20250330T020000
TZOFFSETFROM:+0000
TZOFFSETTO:+0100
TZNAME:BST
END:DAYLIGHT
END:VTIMEZONE
END:VCALENDAR