BEGIN:VCALENDAR
VERSION:2.0
PRODID:-//wp-events-plugin.com//7.2.3.1//EN
TZID:Europe/London
X-WR-TIMEZONE:Europe/London
BEGIN:VEVENT
UID:1452@colnevalleypark.org.uk
DTSTART;TZID=Europe/London:20260331T110000
DTEND;TZID=Europe/London:20260331T150000
DTSTAMP:20260305T085807Z
URL:https://www.colnevalleypark.org.uk/events/terrific-tuesday-themed-fami
 ly-crafts-activities-at-chiltern-open-air-museum/
SUMMARY:Terrific Tuesday - Themed Family Crafts & Activities at Chiltern Op
 en Air Museum
DESCRIPTION:No need to worry about entertaining your children during the sc
 hool holidays! COAM have you covered with special themed family activities
  on Tuesdays during Bucks school holidays.
ATTACH;FMTTYPE=image/jpeg:https://www.colnevalleypark.org.uk/wp-content/up
 loads/2025/04/18th-April-Easter-Activites-at-COAM.png
CATEGORIES:Child friendly,Museum and open days
LOCATION:Chiltern Open Air Museum\, Chiltern Open Air Museum\, Newland Park
 \, Chalfont St Giles\, Buckinghamshire\, HP8 4AB\, United Kingdom
GEO:51.634502;-0.543691
X-APPLE-STRUCTURED-LOCATION;VALUE=URI;X-ADDRESS=Chiltern Open Air Museum\, 
 Newland Park\, Chalfont St Giles\, Buckinghamshire\, HP8 4AB\, United King
 dom;X-APPLE-RADIUS=100;X-TITLE=Chiltern Open Air Museum:geo:51.634502,-0.5
 43691
END:VEVENT
BEGIN:VTIMEZONE
TZID:Europe/London
X-LIC-LOCATION:Europe/London
BEGIN:DAYLIGHT
DTSTART:20260329T020000
TZOFFSETFROM:+0000
TZOFFSETTO:+0100
TZNAME:BST
END:DAYLIGHT
END:VTIMEZONE
END:VCALENDAR