BEGIN:VCALENDAR
VERSION:2.0
PRODID:-//wp-events-plugin.com//7.2.3.1//EN
TZID:Europe/London
X-WR-TIMEZONE:Europe/London
BEGIN:VEVENT
UID:293@colnevalleypark.org.uk
DTSTART;TZID=Europe/London:20210513T143000
DTEND;TZID=Europe/London:20210513T160000
DTSTAMP:20210513T090901Z
URL:https://www.colnevalleypark.org.uk/events/save-the-river-frays-from-po
 llution/
SUMMARY:Save the River Frays from Pollution
DESCRIPTION:We need your help during May to walk along the River Fray and i
 dentify sources of pollution into the stream. Join us for a free online t
 raining session and learn how you can help save our rivers from becoming 
 a cesspool!
ATTACH;FMTTYPE=image/jpeg:https://www.colnevalleypark.org.uk/wp-content/up
 loads/2020/09/Problem-outfall-why.jpeg
END:VEVENT
BEGIN:VTIMEZONE
TZID:Europe/London
X-LIC-LOCATION:Europe/London
BEGIN:DAYLIGHT
DTSTART:20210328T020000
TZOFFSETFROM:+0000
TZOFFSETTO:+0100
TZNAME:BST
END:DAYLIGHT
END:VTIMEZONE
END:VCALENDAR