BEGIN:VCALENDAR
VERSION:2.0
PRODID:-//wp-events-plugin.com//7.2.3.1//EN
TZID:Europe/London
X-WR-TIMEZONE:Europe/London
BEGIN:VEVENT
UID:1290@colnevalleypark.org.uk
DTSTART;TZID=Europe/London:20250607T100000
DTEND;TZID=Europe/London:20250607T121500
DTSTAMP:20250601T133917Z
URL:https://www.colnevalleypark.org.uk/events/river-wildlife-walk-with-her
 ts-middx-wildlife-trust/
SUMMARY:River Wildlife Walk with Herts & Middx Wildlife Trust
DESCRIPTION:Join Herts & Middlesex Wildlife Trust on a walk to discover riv
 er wildlife at Stocker's Lake.
ATTACH;FMTTYPE=image/jpeg:https://www.colnevalleypark.org.uk/wp-content/up
 loads/2025/06/Herts-Rivers-Week.png
CATEGORIES:Child friendly,Guided walks
LOCATION:Stocker's Lake\, Stockers Lake\, Rickmansworth\, Hertfordshire\, W
 D3 1NB\, United Kingdom
GEO:51.633094;-0.472172
X-APPLE-STRUCTURED-LOCATION;VALUE=URI;X-ADDRESS=Stockers Lake\, Rickmanswor
 th\, Hertfordshire\, WD3 1NB\, United Kingdom;X-APPLE-RADIUS=100;X-TITLE=S
 tocker's Lake:geo:51.633094,-0.472172
END:VEVENT
BEGIN:VTIMEZONE
TZID:Europe/London
X-LIC-LOCATION:Europe/London
BEGIN:DAYLIGHT
DTSTART:20250330T020000
TZOFFSETFROM:+0000
TZOFFSETTO:+0100
TZNAME:BST
END:DAYLIGHT
END:VTIMEZONE
END:VCALENDAR