BEGIN:VCALENDAR
VERSION:2.0
PRODID:-//wp-events-plugin.com//7.2.3.1//EN
TZID:Europe/London
X-WR-TIMEZONE:Europe/London
BEGIN:VEVENT
UID:1347@colnevalleypark.org.uk
DTSTART;TZID=Europe/London:20250727T140000
DTEND;TZID=Europe/London:20250727T153000
DTSTAMP:20250715T104157Z
URL:https://www.colnevalleypark.org.uk/events/rickmansworth-aquadrome-walk
 /
SUMMARY:Rickmansworth Aquadrome walk
DESCRIPTION:Rickmansworth Aquadrome Walk organised by Hertfordshire Health 
 Walks.
ATTACH;FMTTYPE=image/jpeg:https://www.colnevalleypark.org.uk/wp-content/up
 loads/2021/07/Aquadrome-42.jpg
CATEGORIES:Festival Fortnight,Guided walks
END:VEVENT
BEGIN:VTIMEZONE
TZID:Europe/London
X-LIC-LOCATION:Europe/London
BEGIN:DAYLIGHT
DTSTART:20250330T020000
TZOFFSETFROM:+0000
TZOFFSETTO:+0100
TZNAME:BST
END:DAYLIGHT
END:VTIMEZONE
END:VCALENDAR