BEGIN:VCALENDAR
VERSION:2.0
PRODID:-//wp-events-plugin.com//7.2.3.1//EN
TZID:Europe/London
X-WR-TIMEZONE:Europe/London
BEGIN:VEVENT
UID:532@colnevalleypark.org.uk
DTSTART;TZID=Europe/London:20220525T090000
DTEND;TZID=Europe/London:20220525T133000
DTSTAMP:20220518T111849Z
URL:https://www.colnevalleypark.org.uk/events/pennywort-pulling-harmondswo
 rth-moor/
SUMMARY:Pennywort Pulling at Harmondsworth Moor
DESCRIPTION:Calling all volunteers to join us for a Pennywort Pulling sessi
 on.
ATTACH;FMTTYPE=image/jpeg:https://www.colnevalleypark.org.uk/wp-content/up
 loads/2019/10/IMG-20191015-WA0005.jpg
LOCATION:Harmondsworth Moor and the Great Barn\, Harmondsworth Moor\, 41 Mo
 or Lane\, Harmondsworth\, UB7 0AP\, United Kingdom
GEO:51.487968;-0.482114
X-APPLE-STRUCTURED-LOCATION;VALUE=URI;X-ADDRESS=Harmondsworth Moor\, 41 Moo
 r Lane\, Harmondsworth\, UB7 0AP\, United Kingdom;X-APPLE-RADIUS=100;X-TIT
 LE=Harmondsworth Moor and the Great Barn:geo:51.487968,-0.482114
END:VEVENT
BEGIN:VTIMEZONE
TZID:Europe/London
X-LIC-LOCATION:Europe/London
BEGIN:DAYLIGHT
DTSTART:20220327T020000
TZOFFSETFROM:+0000
TZOFFSETTO:+0100
TZNAME:BST
END:DAYLIGHT
END:VTIMEZONE
END:VCALENDAR