BEGIN:VCALENDAR
VERSION:2.0
PRODID:-//wp-events-plugin.com//7.2.3.1//EN
TZID:Europe/London
X-WR-TIMEZONE:Europe/London
BEGIN:VEVENT
UID:289@colnevalleypark.org.uk
DTSTART;TZID=Europe/London:20210519T100000
DTEND;TZID=Europe/London:20210519T160000
DTSTAMP:20210507T115045Z
URL:https://www.colnevalleypark.org.uk/events/penny-worst-practical-volunt
 eer-session-west-hyde-6/
SUMMARY:Penny Worst - Practical volunteer session West Hyde
DESCRIPTION:Floating Pennywort is damaging the aquatic ecosystem in the Riv
 er Colne and other rivers in the park. We need your help to remove this pl
 ant starting with the River Colne. Join us for a good workout and to help 
 restore a happy flowing river system again.\n\nCan you help? Volunteer wit
 h us and save our rivers.
ATTACH;FMTTYPE=image/jpeg:https://www.colnevalleypark.org.uk/wp-content/up
 loads/2021/05/FP-19th-May.jpg
END:VEVENT
BEGIN:VTIMEZONE
TZID:Europe/London
X-LIC-LOCATION:Europe/London
BEGIN:DAYLIGHT
DTSTART:20210328T020000
TZOFFSETFROM:+0000
TZOFFSETTO:+0100
TZNAME:BST
END:DAYLIGHT
END:VTIMEZONE
END:VCALENDAR