BEGIN:VCALENDAR
VERSION:2.0
PRODID:-//wp-events-plugin.com//7.2.3.1//EN
TZID:Europe/London
X-WR-TIMEZONE:Europe/London
BEGIN:VEVENT
UID:311@colnevalleypark.org.uk
DTSTART;TZID=Europe/London:20210710T103000
DTEND;TZID=Europe/London:20210710T123000
DTSTAMP:20210628T171955Z
URL:https://www.colnevalleypark.org.uk/events/path-clearing-crown-meadow/
SUMMARY:Path Clearing Crown Meadow
DESCRIPTION:Join us to help clear the path along the Horton Brook and keepi
 ng path access clear around the site.
ATTACH;FMTTYPE=image/jpeg:https://www.colnevalleypark.org.uk/wp-content/up
 loads/2020/12/CVPVollieswTools-scaled.jpg
END:VEVENT
BEGIN:VTIMEZONE
TZID:Europe/London
X-LIC-LOCATION:Europe/London
BEGIN:DAYLIGHT
DTSTART:20210328T020000
TZOFFSETFROM:+0000
TZOFFSETTO:+0100
TZNAME:BST
END:DAYLIGHT
END:VTIMEZONE
END:VCALENDAR