BEGIN:VCALENDAR
VERSION:2.0
PRODID:-//wp-events-plugin.com//7.2.3.1//EN
TZID:Europe/London
X-WR-TIMEZONE:Europe/London
BEGIN:VEVENT
UID:312@colnevalleypark.org.uk
DTSTART;TZID=Europe/London:20210710T130000
DTEND;TZID=Europe/London:20210710T160000
DTSTAMP:20210628T171839Z
URL:https://www.colnevalleypark.org.uk/events/path-clearing-crown-arthur-j
 acobs/
SUMMARY:Path Clearing Arthur Jacobs Nature Reserve
DESCRIPTION:We need your help to clear paths on the nature reserve\, please
  join us to help do a thorough job and keep this beautiful place accessibl
 e.
ATTACH;FMTTYPE=image/jpeg:https://www.colnevalleypark.org.uk/wp-content/up
 loads/2020/12/CVPVollieswTools-scaled.jpg
END:VEVENT
BEGIN:VTIMEZONE
TZID:Europe/London
X-LIC-LOCATION:Europe/London
BEGIN:DAYLIGHT
DTSTART:20210328T020000
TZOFFSETFROM:+0000
TZOFFSETTO:+0100
TZNAME:BST
END:DAYLIGHT
END:VTIMEZONE
END:VCALENDAR