BEGIN:VCALENDAR
VERSION:2.0
PRODID:-//wp-events-plugin.com//7.2.3.1//EN
TZID:Europe/London
X-WR-TIMEZONE:Europe/London
BEGIN:VEVENT
UID:1440@colnevalleypark.org.uk
DTSTART;TZID=Europe/London:20260226T180000
DTEND;TZID=Europe/London:20260226T200000
DTSTAMP:20260209T181353Z
URL:https://www.colnevalleypark.org.uk/events/nature-discovery-evening-at-
 woodoaks-farm/
SUMMARY:Nature Discovery Evening at Woodoaks Farm
DESCRIPTION:Join The Woodoaks Team for an informative and friendly evening 
 discovering how Woodoaks is moving forward with their nature recovery and 
 woodland restoration plans.
ATTACH;FMTTYPE=image/jpeg:https://www.colnevalleypark.org.uk/wp-content/up
 loads/2026/02/Nature-Discovery-Evening-at-Woodoaks-Farm.jpg
LOCATION:Woodoaks Farm\, Woodoaks Farm Cottages\, Denham Way\, Maple Cross\
 , WD3 9XQ\, United Kingdom
GEO:51.628289;-0.50989
X-APPLE-STRUCTURED-LOCATION;VALUE=URI;X-ADDRESS=Woodoaks Farm Cottages\, De
 nham Way\, Maple Cross\, WD3 9XQ\, United Kingdom;X-APPLE-RADIUS=100;X-TIT
 LE=Woodoaks Farm:geo:51.628289,-0.50989
END:VEVENT
BEGIN:VTIMEZONE
TZID:Europe/London
X-LIC-LOCATION:Europe/London
BEGIN:STANDARD
DTSTART:20251026T010000
TZOFFSETFROM:+0100
TZOFFSETTO:+0000
TZNAME:GMT
END:STANDARD
END:VTIMEZONE
END:VCALENDAR