BEGIN:VCALENDAR
VERSION:2.0
PRODID:-//wp-events-plugin.com//7.2.3.1//EN
TZID:Europe/London
X-WR-TIMEZONE:Europe/London
BEGIN:VEVENT
UID:1236@colnevalleypark.org.uk
DTSTART;TZID=Europe/London:20250531T100000
DTEND;TZID=Europe/London:20250601T170000
DTSTAMP:20250417T125430Z
URL:https://www.colnevalleypark.org.uk/events/napoleonic-living-history-we
 ekend-at-chiltern-open-air-museum/
SUMMARY:Napoleonic Living History Weekend at Chiltern Open Air Museum
DESCRIPTION:Join Chiltern Open Air Museum for May half-term for an unforget
 table educational and thrilling experience as you witness the battles of o
 ur Roman Gladiators. Prepare to be amazed as provincial gladiators take th
 e stage and engage in fierce combat.
ATTACH;FMTTYPE=image/jpeg:https://www.colnevalleypark.org.uk/wp-content/up
 loads/2024/05/Napolean-at-Chiltern-Open-Air-Museum.png
CATEGORIES:Museum and open days
LOCATION:Chiltern Open Air Museum\, Chiltern Open Air Museum\, Newland Park
 \, Chalfont St Giles\, Buckinghamshire\, HP8 4AB\, United Kingdom
GEO:51.634502;-0.543691
X-APPLE-STRUCTURED-LOCATION;VALUE=URI;X-ADDRESS=Chiltern Open Air Museum\, 
 Newland Park\, Chalfont St Giles\, Buckinghamshire\, HP8 4AB\, United King
 dom;X-APPLE-RADIUS=100;X-TITLE=Chiltern Open Air Museum:geo:51.634502,-0.5
 43691
END:VEVENT
BEGIN:VTIMEZONE
TZID:Europe/London
X-LIC-LOCATION:Europe/London
BEGIN:DAYLIGHT
DTSTART:20250330T020000
TZOFFSETFROM:+0000
TZOFFSETTO:+0100
TZNAME:BST
END:DAYLIGHT
END:VTIMEZONE
END:VCALENDAR