BEGIN:VCALENDAR
VERSION:2.0
PRODID:-//wp-events-plugin.com//7.2.3.1//EN
TZID:Europe/London
X-WR-TIMEZONE:Europe/London
BEGIN:VEVENT
UID:1342@colnevalleypark.org.uk
DTSTART;TZID=Europe/London:20250726T110000
DTEND;TZID=Europe/London:20250726T130000
DTSTAMP:20250709T104520Z
URL:https://www.colnevalleypark.org.uk/events/moth-butterfly-walk-talk-cou
 nt-at-woodoaks-farm/
SUMMARY:Moth & Butterfly Walk Talk & Count at Woodoaks Farm
DESCRIPTION:Join butterfly enthusiast Martin Taylor and expert entomologist
  John Mynett for a two-hour walk exploring the butterflies and moths of Wo
 odoaks Farm.
ATTACH;FMTTYPE=image/jpeg:https://www.colnevalleypark.org.uk/wp-content/up
 loads/2025/07/Butterfly-Walk-and-Count-at-Woodoaks-Farm.jpg
CATEGORIES:Child friendly,Festival Fortnight,Guided walks
LOCATION:Woodoaks Farm\, Woodoaks Farm Cottages\, Denham Way\, Maple Cross\
 , WD3 9XQ\, United Kingdom
GEO:51.628289;-0.50989
X-APPLE-STRUCTURED-LOCATION;VALUE=URI;X-ADDRESS=Woodoaks Farm Cottages\, De
 nham Way\, Maple Cross\, WD3 9XQ\, United Kingdom;X-APPLE-RADIUS=100;X-TIT
 LE=Woodoaks Farm:geo:51.628289,-0.50989
END:VEVENT
BEGIN:VTIMEZONE
TZID:Europe/London
X-LIC-LOCATION:Europe/London
BEGIN:DAYLIGHT
DTSTART:20250330T020000
TZOFFSETFROM:+0000
TZOFFSETTO:+0100
TZNAME:BST
END:DAYLIGHT
END:VTIMEZONE
END:VCALENDAR