BEGIN:VCALENDAR
VERSION:2.0
PRODID:-//wp-events-plugin.com//7.2.3.1//EN
TZID:Europe/London
X-WR-TIMEZONE:Europe/London
BEGIN:VEVENT
UID:1325@colnevalleypark.org.uk
DTSTART;TZID=Europe/London:20250726T110000
DTEND;TZID=Europe/London:20250727T170000
DTSTAMP:20250715T081739Z
URL:https://www.colnevalleypark.org.uk/events/maple-lodge-nature-reserve-o
 pen-weekend/
SUMMARY:Maple Lodge Nature Reserve Open Weekend
DESCRIPTION:What a Treat! Maple Lodge Nature Reserve will be open to the ge
 neral public all weekend from Saturday 26th-Sunday 27th July
ATTACH;FMTTYPE=image/jpeg:https://www.colnevalleypark.org.uk/wp-content/up
 loads/2024/06/Maple-Lodge-Nature-Reserve.gif
CATEGORIES:Festival Fortnight,Museum and open days
LOCATION:Maple Lodge\, Maple Lodge Cl\, Maple Cross\, Rickmansworth \, WD3 
 9SN\, United Kingdom
GEO:51.623652;-0.506793
X-APPLE-STRUCTURED-LOCATION;VALUE=URI;X-ADDRESS=Maple Lodge Cl\, Maple Cros
 s\, Rickmansworth \, WD3 9SN\, United Kingdom;X-APPLE-RADIUS=100;X-TITLE=M
 aple Lodge:geo:51.623652,-0.506793
END:VEVENT
BEGIN:VTIMEZONE
TZID:Europe/London
X-LIC-LOCATION:Europe/London
BEGIN:DAYLIGHT
DTSTART:20250330T020000
TZOFFSETFROM:+0000
TZOFFSETTO:+0100
TZNAME:BST
END:DAYLIGHT
END:VTIMEZONE
END:VCALENDAR