BEGIN:VCALENDAR
VERSION:2.0
PRODID:-//wp-events-plugin.com//7.2.3.1//EN
TZID:Europe/London
X-WR-TIMEZONE:Europe/London
BEGIN:VEVENT
UID:1453@colnevalleypark.org.uk
DTSTART;TZID=Europe/London:20260331T100000
DTEND;TZID=Europe/London:20260331T140000
DTSTAMP:20260317T154713Z
URL:https://www.colnevalleypark.org.uk/events/litter-blitz-conservation-vo
 lunteer-day-at-little-britain-lake/
SUMMARY:Litter Blitz & Conservation volunteer day at Little Britain Lake
DESCRIPTION:Volunteers wanted to join us at Little Britain Lake for a fun d
 ay doing lots of conservation volunteer tasks including litter picking\, t
 o help protect this beautiful site for both people and wildlife.
ATTACH;FMTTYPE=image/jpeg:https://www.colnevalleypark.org.uk/wp-content/up
 loads/2026/03/31-march-poster.png
CATEGORIES:Volunteer
LOCATION:Little Britain Lake\, Little Britain Lake\, Uxbridge\, UB8 2JT\, U
 nited Kingdom
GEO:51.519494;-0.489625
X-APPLE-STRUCTURED-LOCATION;VALUE=URI;X-ADDRESS=Little Britain Lake\, Uxbri
 dge\, UB8 2JT\, United Kingdom;X-APPLE-RADIUS=100;X-TITLE=Little Britain L
 ake:geo:51.519494,-0.489625
END:VEVENT
BEGIN:VTIMEZONE
TZID:Europe/London
X-LIC-LOCATION:Europe/London
BEGIN:DAYLIGHT
DTSTART:20260329T020000
TZOFFSETFROM:+0000
TZOFFSETTO:+0100
TZNAME:BST
END:DAYLIGHT
END:VTIMEZONE
END:VCALENDAR