BEGIN:VCALENDAR
VERSION:2.0
PRODID:-//wp-events-plugin.com//7.2.3.1//EN
TZID:Europe/London
X-WR-TIMEZONE:Europe/London
BEGIN:VEVENT
UID:1350@colnevalleypark.org.uk
DTSTART;TZID=Europe/London:20250920T110000
DTEND;TZID=Europe/London:20250920T123000
DTSTAMP:20250718T085115Z
URL:https://www.colnevalleypark.org.uk/events/led-walk-west-drayton-5/
SUMMARY:Led Walk: West Drayton
DESCRIPTION:Hillingdon Council organise a regular led walk from West Drayto
 n to Harmondsworth Moor and Saxon Lake\, which you would be very welcome t
 o join\, it starts at West Drayton Library car park.
ATTACH;FMTTYPE=image/jpeg:https://www.colnevalleypark.org.uk/wp-content/up
 loads/2020/10/Harmondsworth-Moor-Pretty-stile.jpg
CATEGORIES:Guided walks
END:VEVENT
BEGIN:VTIMEZONE
TZID:Europe/London
X-LIC-LOCATION:Europe/London
BEGIN:DAYLIGHT
DTSTART:20250330T020000
TZOFFSETFROM:+0000
TZOFFSETTO:+0100
TZNAME:BST
END:DAYLIGHT
END:VTIMEZONE
END:VCALENDAR