BEGIN:VCALENDAR
VERSION:2.0
PRODID:-//wp-events-plugin.com//7.2.3.1//EN
TZID:Europe/London
X-WR-TIMEZONE:Europe/London
BEGIN:VEVENT
UID:1457@colnevalleypark.org.uk
DTSTART;TZID=Europe/London:20260501T110000
DTEND;TZID=Europe/London:20260501T123000
DTSTAMP:20260327T142910Z
URL:https://www.colnevalleypark.org.uk/events/led-walk-harefield-2026-05-0
 1/
SUMMARY:Led Walk: Harefield
DESCRIPTION:Hillingdon Council organise a regular led walk from Harefield a
 long the Grand Union Canal past Black Jack's Lock\, which you would be ver
 y welcome to join\, it starts at Harefield Green bus stop.\n\nDate: 06 Ma
 rch 2026 - 30 June 2026. Recurs monthly on the first Friday of the month\n
 Cancelled on: 03 April 2026\nTime: 11.00am - 12.30pm\n\n\nMore details f
 rom the organiser\n\nWhat they say...\nThis medium to fast paced walk foll
 ows 2 to 3 different routes along the Grand Union Canal\, past the famous 
 Black Jack's Lock. It includes steep slopes and uneven ground through wood
 land.\nFrom mid April to May\, the bluebells are a beautiful sight.\n\n\n 
 	Distance: 3.5 to 4 miles\n 	Grade 4 walk: For people with a good level of
  fitness.\n 	Meeting point: Harefield Green bus stop\, Breakspear Road No
 rth (near the pond)\n\nNotes for walkers\n\n 	Walks will start promptly a
 t the published start time.\n 	Please arrive 10 minutes before the start 
 time for registration.\n 	If you are bringing a group or have additional 
 needs\, please call 01895 250453 to advise.\n 	Suitable footwear should be
  worn for off-road walking.\n 	Dogs (except guide or assistance dogs) are 
 not allowed.\n 	Walkers under the age of 16 must be accompanied by a respo
 nsible adult.\n\n&nbsp\;\n\n&nbsp\;
ATTACH;FMTTYPE=image/jpeg:https://www.colnevalleypark.org.uk/wp-content/up
 loads/2020/03/Outside-Aerial-Final-Jacks-Mill.jpg
CATEGORIES:Guided walks
END:VEVENT
BEGIN:VTIMEZONE
TZID:Europe/London
X-LIC-LOCATION:Europe/London
BEGIN:DAYLIGHT
DTSTART:20260329T020000
TZOFFSETFROM:+0000
TZOFFSETTO:+0100
TZNAME:BST
END:DAYLIGHT
END:VTIMEZONE
END:VCALENDAR