BEGIN:VCALENDAR
VERSION:2.0
PRODID:-//wp-events-plugin.com//7.2.3.1//EN
TZID:Europe/London
X-WR-TIMEZONE:Europe/London
BEGIN:VEVENT
UID:1251@colnevalleypark.org.uk
DTSTART;TZID=Europe/London:20250601T110000
DTEND;TZID=Europe/London:20250601T130000
DTSTAMP:20250518T094822Z
URL:https://www.colnevalleypark.org.uk/events/led-walk-grand-union-6/
SUMMARY:Led walk: Grand Union
DESCRIPTION:Hillingdon Council organise a regular led walk along the towpat
 h of the Grand Union Canal\, which you would be very welcome to join\, it 
 starts at Canal bridge next to Yiewsley Health Centre.
ATTACH;FMTTYPE=image/jpeg:https://www.colnevalleypark.org.uk/wp-content/up
 loads/2024/08/Grand-Union-Canal-Walk-led-by-Hillingdon.jpg
CATEGORIES:Guided walks
END:VEVENT
BEGIN:VTIMEZONE
TZID:Europe/London
X-LIC-LOCATION:Europe/London
BEGIN:DAYLIGHT
DTSTART:20250330T020000
TZOFFSETFROM:+0000
TZOFFSETTO:+0100
TZNAME:BST
END:DAYLIGHT
END:VTIMEZONE
END:VCALENDAR