BEGIN:VCALENDAR
VERSION:2.0
PRODID:-//wp-events-plugin.com//7.2.3.1//EN
TZID:Europe/London
X-WR-TIMEZONE:Europe/London
BEGIN:VEVENT
UID:1326@colnevalleypark.org.uk
DTSTART;TZID=Europe/London:20250726T100000
DTEND;TZID=Europe/London:20250726T133000
DTSTAMP:20250627T085626Z
URL:https://www.colnevalleypark.org.uk/events/guided-walk-denham-woodlands
 /
SUMMARY:Guided Walk – Denham Woodlands
DESCRIPTION:Explore the ancient Denham woodlands and the beautiful Misbourn
 e Valley on a circular walk\, led by Xavier Drury from Groundwork South\, 
 and Paul Graham\, Colne Valley Park Trustee\;  starting and ending at Nort
 hmoor Hill Wood.
ATTACH;FMTTYPE=image/jpeg:https://www.colnevalleypark.org.uk/wp-content/up
 loads/2025/06/HigherDenham1-scaled.jpg
CATEGORIES:Festival Fortnight,Guided walks
LOCATION:Northmoor Hill Wood Nature Reserve\, Northmoor Hill Wood Nature Re
 serve\, Denham\, Buckinghamshire\, UB9 5DF\, United Kingdom
GEO:51.592644;-0.504869
X-APPLE-STRUCTURED-LOCATION;VALUE=URI;X-ADDRESS=Northmoor Hill Wood Nature 
 Reserve\, Denham\, Buckinghamshire\, UB9 5DF\, United Kingdom;X-APPLE-RADI
 US=100;X-TITLE=Northmoor Hill Wood Nature Reserve:geo:51.592644,-0.504869
END:VEVENT
BEGIN:VTIMEZONE
TZID:Europe/London
X-LIC-LOCATION:Europe/London
BEGIN:DAYLIGHT
DTSTART:20250330T020000
TZOFFSETFROM:+0000
TZOFFSETTO:+0100
TZNAME:BST
END:DAYLIGHT
END:VTIMEZONE
END:VCALENDAR