BEGIN:VCALENDAR
VERSION:2.0
PRODID:-//wp-events-plugin.com//7.2.3.1//EN
TZID:Europe/London
X-WR-TIMEZONE:Europe/London
BEGIN:VEVENT
UID:1255@colnevalleypark.org.uk
DTSTART;TZID=Europe/London:20250530T211500
DTEND;TZID=Europe/London:20250530T223000
DTSTAMP:20250521T114539Z
URL:https://www.colnevalleypark.org.uk/events/guided-bat-walk-in-ruislip-w
 oods-7/
SUMMARY:Guided Bat Walk in Ruislip Woods
DESCRIPTION: Join Ruislip Woods Trust for a guided evening walk around the 
 Lido in Ruislip Woods and hopefully see some bats. Walk organised by Hilli
 ngdon council.
ATTACH;FMTTYPE=image/jpeg:https://www.colnevalleypark.org.uk/wp-content/up
 loads/2024/05/MilesBatWalk260424-scaled.jpg
CATEGORIES:Child friendly,Guided walks
LOCATION:Ruislip Lido Woodland Centre\, Ruislip Lido\, Reservoir Road\, Rui
 slip\, HA4 7TY\, United Kingdom
GEO:51.588177;-0.431558
X-APPLE-STRUCTURED-LOCATION;VALUE=URI;X-ADDRESS=Ruislip Lido\, Reservoir Ro
 ad\, Ruislip\, HA4 7TY\, United Kingdom;X-APPLE-RADIUS=100;X-TITLE=Ruislip
  Lido Woodland Centre:geo:51.588177,-0.431558
END:VEVENT
BEGIN:VTIMEZONE
TZID:Europe/London
X-LIC-LOCATION:Europe/London
BEGIN:DAYLIGHT
DTSTART:20250330T020000
TZOFFSETFROM:+0000
TZOFFSETTO:+0100
TZNAME:BST
END:DAYLIGHT
END:VTIMEZONE
END:VCALENDAR