BEGIN:VCALENDAR
VERSION:2.0
PRODID:-//wp-events-plugin.com//7.2.3.1//EN
TZID:Europe/London
X-WR-TIMEZONE:Europe/London
BEGIN:VEVENT
UID:1296@colnevalleypark.org.uk
DTSTART;TZID=Europe/London:20250725T173000
DTEND;TZID=Europe/London:20250725T184500
DTSTAMP:20250618T085142Z
URL:https://www.colnevalleypark.org.uk/events/friday-evening-cruise-on-the
 -grand-union-canal-25july/
SUMMARY:Friday evening cruise on the Grand Union Canal
DESCRIPTION:Relax with a Friday evening cruise on the Grand Union! Experien
 ce the evening peace and tranquility of the canal with Rickmansworth Water
 ways Trust new Friday late cruises. From Batchworth Lock\, Rickmansworth
  to Lot Mead Lock\, Croxley and return (approx 1 hour).
ATTACH;FMTTYPE=image/jpeg:https://www.colnevalleypark.org.uk/wp-content/up
 loads/2025/06/Friday-evening-cruise-on-the-Grand-Union-Canal.png
CATEGORIES:Child friendly,Festival Fortnight,Museum and open days
LOCATION:Batchworth Lock Canal Centre\, Batchworth Lock Canal Centre\, Rick
 mansworth\, Hertfordshire\, WD3 1JD\, United Kingdom
GEO:51.636094;-0.464592
X-APPLE-STRUCTURED-LOCATION;VALUE=URI;X-ADDRESS=Batchworth Lock Canal Centr
 e\, Rickmansworth\, Hertfordshire\, WD3 1JD\, United Kingdom;X-APPLE-RADIU
 S=100;X-TITLE=Batchworth Lock Canal Centre:geo:51.636094,-0.464592
END:VEVENT
BEGIN:VTIMEZONE
TZID:Europe/London
X-LIC-LOCATION:Europe/London
BEGIN:DAYLIGHT
DTSTART:20250330T020000
TZOFFSETFROM:+0000
TZOFFSETTO:+0100
TZNAME:BST
END:DAYLIGHT
END:VTIMEZONE
END:VCALENDAR