BEGIN:VCALENDAR
VERSION:2.0
PRODID:-//wp-events-plugin.com//7.2.3.1//EN
TZID:Europe/London
X-WR-TIMEZONE:Europe/London
BEGIN:VEVENT
UID:1304@colnevalleypark.org.uk
DTSTART;TZID=Europe/London:20250804T110000
DTEND;TZID=Europe/London:20250808T150000
DTSTAMP:20250622T103213Z
URL:https://www.colnevalleypark.org.uk/events/free-summer-holiday-fun-acti
 vities-at-the-woodland-centre-ruislip-lido-2/
SUMMARY:Free Summer Holiday Fun Activities at the Woodland Centre Ruislip L
 ido
DESCRIPTION:Free Summer Holiday Fun Activities for children and families or
 ganised by Hillingdon Council at the Woodland Centre beside Ruislip Lido. 
 Games\, mini beast hunts and art to kick start the holidays.
ATTACH;FMTTYPE=image/jpeg:https://www.colnevalleypark.org.uk/wp-content/up
 loads/2025/06/2907to0108-Free-Summer-hol-fun-header.png
CATEGORIES:Child friendly
LOCATION:Ruislip Lido Woodland Centre\, Ruislip Lido\, Reservoir Road\, Rui
 slip\, HA4 7TY\, United Kingdom
GEO:51.588177;-0.431558
X-APPLE-STRUCTURED-LOCATION;VALUE=URI;X-ADDRESS=Ruislip Lido\, Reservoir Ro
 ad\, Ruislip\, HA4 7TY\, United Kingdom;X-APPLE-RADIUS=100;X-TITLE=Ruislip
  Lido Woodland Centre:geo:51.588177,-0.431558
END:VEVENT
BEGIN:VTIMEZONE
TZID:Europe/London
X-LIC-LOCATION:Europe/London
BEGIN:DAYLIGHT
DTSTART:20250330T020000
TZOFFSETFROM:+0000
TZOFFSETTO:+0100
TZNAME:BST
END:DAYLIGHT
END:VTIMEZONE
END:VCALENDAR