BEGIN:VCALENDAR
VERSION:2.0
PRODID:-//wp-events-plugin.com//7.2.3.1//EN
TZID:Europe/London
X-WR-TIMEZONE:Europe/London
BEGIN:VEVENT
UID:1235@colnevalleypark.org.uk
DTSTART;TZID=Europe/London:20250501T190000
DTEND;TZID=Europe/London:20250501T210000
DTSTAMP:20250416T145403Z
URL:https://www.colnevalleypark.org.uk/events/food-conversation-at-woodoak
 s-farm/
SUMMARY:Food Conversation at Woodoaks Farm
DESCRIPTION:If you would you like to be part of a National Conversation to 
 help change the way we eat\, grow & buy our food\, then this local Woodoak
 s event is for you!
ATTACH;FMTTYPE=image/jpeg:https://www.colnevalleypark.org.uk/wp-content/up
 loads/2025/04/Food-Conversation-at-Woodoaks-Farm-1st-May.png
LOCATION:Woodoaks Farm\, Woodoaks Farm Cottages\, Denham Way\, Maple Cross\
 , WD3 9XQ\, United Kingdom
GEO:51.628289;-0.50989
X-APPLE-STRUCTURED-LOCATION;VALUE=URI;X-ADDRESS=Woodoaks Farm Cottages\, De
 nham Way\, Maple Cross\, WD3 9XQ\, United Kingdom;X-APPLE-RADIUS=100;X-TIT
 LE=Woodoaks Farm:geo:51.628289,-0.50989
END:VEVENT
BEGIN:VTIMEZONE
TZID:Europe/London
X-LIC-LOCATION:Europe/London
BEGIN:DAYLIGHT
DTSTART:20250330T020000
TZOFFSETFROM:+0000
TZOFFSETTO:+0100
TZNAME:BST
END:DAYLIGHT
END:VTIMEZONE
END:VCALENDAR