BEGIN:VCALENDAR
VERSION:2.0
PRODID:-//wp-events-plugin.com//7.2.3.1//EN
TZID:Europe/London
X-WR-TIMEZONE:Europe/London
BEGIN:VEVENT
UID:1340@colnevalleypark.org.uk
DTSTART;TZID=Europe/London:20250721T190000
DTEND;TZID=Europe/London:20250721T210000
DTSTAMP:20250715T102351Z
URL:https://www.colnevalleypark.org.uk/events/fermenting-workshop-love-you
 r-loaf-at-woodoaks-farm/
SUMMARY:Fermenting Workshop Love your loaf at Woodoaks Farm
DESCRIPTION:A hands-on workshop with Lucy Williamson Nutrition at Woodoaks 
 Farm where you'll learn the joy of sourdough - the bread that loves you ba
 ck! Discover the secrets of fermentation\, improved digestion\, and health
 ful living!
ATTACH;FMTTYPE=image/jpeg:https://www.colnevalleypark.org.uk/wp-content/up
 loads/2025/07/Nutrition-Workshop-Woodoaks-Farm.jpg
CATEGORIES:Festival Fortnight
END:VEVENT
BEGIN:VTIMEZONE
TZID:Europe/London
X-LIC-LOCATION:Europe/London
BEGIN:DAYLIGHT
DTSTART:20250330T020000
TZOFFSETFROM:+0000
TZOFFSETTO:+0100
TZNAME:BST
END:DAYLIGHT
END:VTIMEZONE
END:VCALENDAR