BEGIN:VCALENDAR
VERSION:2.0
PRODID:-//wp-events-plugin.com//7.2.3.1//EN
TZID:Europe/London
X-WR-TIMEZONE:Europe/London
BEGIN:VEVENT
UID:1297@colnevalleypark.org.uk
DTSTART;TZID=Europe/London:20250719T110000
DTEND;TZID=Europe/London:20250719T160000
DTSTAMP:20250624T134651Z
URL:https://www.colnevalleypark.org.uk/events/farm-out-the-ivers-village-f
 ete/
SUMMARY:FARM OUT – The Ivers Village Fete
DESCRIPTION:The Iver Village fete and picnic is coming back this summer and
  it’s going to be a lot of fun. The theme is old-school summer fete with
  a petting zoo\, a huge obstacle-course\, bouncy castle\, a gladiator duel
  ring for teenagers\, dance groups on stage\, and the brilliant kids enter
 tainer Mark Jones compering the whole event.
ATTACH;FMTTYPE=image/jpeg:https://www.colnevalleypark.org.uk/wp-content/up
 loads/2025/06/Farm-Out-The-Ivers-Village-Fete.png
CATEGORIES:Child friendly,Festival Fortnight
LOCATION:Iver Recreation Ground\, Off High Street\, Iver Village\, SL0 9PW 
 \, United Kingdom
GEO:51.520767;-0.512451
X-APPLE-STRUCTURED-LOCATION;VALUE=URI;X-ADDRESS=Off High Street\, Iver Vill
 age\, SL0 9PW \, United Kingdom;X-APPLE-RADIUS=100;X-TITLE=Iver Recreation
  Ground:geo:51.520767,-0.512451
END:VEVENT
BEGIN:VTIMEZONE
TZID:Europe/London
X-LIC-LOCATION:Europe/London
BEGIN:DAYLIGHT
DTSTART:20250330T020000
TZOFFSETFROM:+0000
TZOFFSETTO:+0100
TZNAME:BST
END:DAYLIGHT
END:VTIMEZONE
END:VCALENDAR