BEGIN:VCALENDAR
VERSION:2.0
PRODID:-//wp-events-plugin.com//7.2.3.1//EN
TZID:Europe/London
X-WR-TIMEZONE:Europe/London
BEGIN:VEVENT
UID:556@colnevalleypark.org.uk
DTSTART;TZID=Europe/London:20220805T170000
DTEND;TZID=Europe/London:20220805T183000
DTSTAMP:20220629T092328Z
URL:https://www.colnevalleypark.org.uk/events/family-fun-teatime-at-iver-e
 nvironment-centre-pond-dip-and-pitta-pizzas-2/
SUMMARY:Family Fun Teatime at Iver Environment Centre - Pond Dip and Pitta 
 Pizzas
DESCRIPTION:Join the team at the amazing Iver Environment Centre for a Fami
 ly Fun Teatime\, including a Pond Dipping Workshop and Pitta Pizzas
ATTACH;FMTTYPE=image/jpeg:https://www.colnevalleypark.org.uk/wp-content/up
 loads/2022/06/Pond-dip-and-Pitta-pizza-Family-Teatime-at-Iver-Envionment-C
 entre.png
LOCATION:Iver Heath Nature Reserve and Environment Centre\,  Iver Heath Nat
 ure Reserve and Iver Environment Centre\, Slough Road\, Slough\, Berkshire
 \, SL0 0EB\, United Kingdom
GEO:51.542442;-0.500866
X-APPLE-STRUCTURED-LOCATION;VALUE=URI;X-ADDRESS= Iver Heath Nature Reserve 
 and Iver Environment Centre\, Slough Road\, Slough\, Berkshire\, SL0 0EB\,
  United Kingdom;X-APPLE-RADIUS=100;X-TITLE=Iver Heath Nature Reserve and E
 nvironment Centre:geo:51.542442,-0.500866
END:VEVENT
BEGIN:VTIMEZONE
TZID:Europe/London
X-LIC-LOCATION:Europe/London
BEGIN:DAYLIGHT
DTSTART:20220327T020000
TZOFFSETFROM:+0000
TZOFFSETTO:+0100
TZNAME:BST
END:DAYLIGHT
END:VTIMEZONE
END:VCALENDAR