BEGIN:VCALENDAR
VERSION:2.0
PRODID:-//wp-events-plugin.com//7.2.3.1//EN
TZID:Europe/London
X-WR-TIMEZONE:Europe/London
BEGIN:VEVENT
UID:1293@colnevalleypark.org.uk
DTSTART;TZID=Europe/London:20250729T170000
DTEND;TZID=Europe/London:20250729T190000
DTSTAMP:20250618T085615Z
URL:https://www.colnevalleypark.org.uk/events/family-fun-evening-pond-dipp
 ing-and-pita-pizzas-2/
SUMMARY:Family Fun Evening - Pond Dipping and Pita Pizzas
DESCRIPTION:Iver Environment Centre are organising a Family Fun Evening dur
 ing Festival Fortnight  - Pond Dipping and Pita Pizzas during the Festiva
 l Fortnight. Join them on a summer evening to explore their amazing site. 
 Workshop: Family Pond Dipping 
ATTACH;FMTTYPE=image/jpeg:https://www.colnevalleypark.org.uk/wp-content/up
 loads/2025/06/Pond-Dipping-at-Iver-Environment-Centre.png
CATEGORIES:Child friendly,Festival Fortnight
LOCATION:Iver Environment Centre and nature reserves in Iver Heath\, Iver E
 nvironment Centre\, Slough Rd\, Iver \, Buckinghamshire\, SL0 0EB\, United
  Kingdom
GEO:51.542444;-0.500866
X-APPLE-STRUCTURED-LOCATION;VALUE=URI;X-ADDRESS=Iver Environment Centre\, S
 lough Rd\, Iver \, Buckinghamshire\, SL0 0EB\, United Kingdom;X-APPLE-RADI
 US=100;X-TITLE=Iver Environment Centre and nature reserves in Iver Heath:g
 eo:51.542444,-0.500866
END:VEVENT
BEGIN:VTIMEZONE
TZID:Europe/London
X-LIC-LOCATION:Europe/London
BEGIN:DAYLIGHT
DTSTART:20250330T020000
TZOFFSETFROM:+0000
TZOFFSETTO:+0100
TZNAME:BST
END:DAYLIGHT
END:VTIMEZONE
END:VCALENDAR