BEGIN:VCALENDAR
VERSION:2.0
PRODID:-//wp-events-plugin.com//7.2.3.1//EN
TZID:Europe/London
X-WR-TIMEZONE:Europe/London
BEGIN:VEVENT
UID:1291@colnevalleypark.org.uk
DTSTART;TZID=Europe/London:20250731T100000
DTEND;TZID=Europe/London:20250731T123000
DTSTAMP:20250618T085752Z
URL:https://www.colnevalleypark.org.uk/events/family-fun-day-at-iver-envir
 onment-centre/
SUMMARY:Family Fun Day at Iver Environment Centre
DESCRIPTION:Family Fun Morning or Afternoon at Iver Environment a great opp
 ortunity to explore their site. There will be a trail\, craft activities a
 nd more - and the playground and mud kitchen will be available\, too!\n
ATTACH;FMTTYPE=image/jpeg:https://www.colnevalleypark.org.uk/wp-content/up
 loads/2025/06/Family-Fun-Days.png
CATEGORIES:Child friendly,Festival Fortnight
LOCATION:Iver Environment Centre\, Slough Road\, Iver\, Buckinghamshire\, S
 L0 0EB\, United Kingdom
GEO:51.539928;-0.500178
X-APPLE-STRUCTURED-LOCATION;VALUE=URI;X-ADDRESS=Slough Road\, Iver\, Buckin
 ghamshire\, SL0 0EB\, United Kingdom;X-APPLE-RADIUS=100;X-TITLE=Iver Envir
 onment Centre:geo:51.539928,-0.500178
END:VEVENT
BEGIN:VTIMEZONE
TZID:Europe/London
X-LIC-LOCATION:Europe/London
BEGIN:DAYLIGHT
DTSTART:20250330T020000
TZOFFSETFROM:+0000
TZOFFSETTO:+0100
TZNAME:BST
END:DAYLIGHT
END:VTIMEZONE
END:VCALENDAR