BEGIN:VCALENDAR
VERSION:2.0
PRODID:-//wp-events-plugin.com//7.2.3.1//EN
TZID:Europe/London
X-WR-TIMEZONE:Europe/London
BEGIN:VEVENT
UID:1256@colnevalleypark.org.uk
DTSTART;TZID=Europe/London:20250524T100000
DTEND;TZID=Europe/London:20250524T130000
DTSTAMP:20250521T181313Z
URL:https://www.colnevalleypark.org.uk/events/family-friendly-led-cycle-ri
 de-around-the-highlights-of-hillingdon/
SUMMARY:Family Friendly led Cycle ride around the highlights of Hillingdon
DESCRIPTION:Hillingdon Council invite you to join their family friendly led
  cycle ride around the highlights of Hillingdon.
ATTACH;FMTTYPE=image/jpeg:https://www.colnevalleypark.org.uk/wp-content/up
 loads/2025/05/London-Cycling-Festival.png
END:VEVENT
BEGIN:VTIMEZONE
TZID:Europe/London
X-LIC-LOCATION:Europe/London
BEGIN:DAYLIGHT
DTSTART:20250330T020000
TZOFFSETFROM:+0000
TZOFFSETTO:+0100
TZNAME:BST
END:DAYLIGHT
END:VTIMEZONE
END:VCALENDAR