BEGIN:VCALENDAR
VERSION:2.0
PRODID:-//wp-events-plugin.com//7.2.3.1//EN
TZID:Europe/London
X-WR-TIMEZONE:Europe/London
BEGIN:VEVENT
UID:1345@colnevalleypark.org.uk
DTSTART;TZID=Europe/London:20250729T100000
DTEND;TZID=Europe/London:20250729T120000
DTSTAMP:20250710T123114Z
URL:https://www.colnevalleypark.org.uk/events/family-bug-hunting-and-habit
 at-creation-in-iver/
SUMMARY:Family Bug hunting and habitat creation in Iver
DESCRIPTION:Find out which mini beasts live in your local nature reserve. T
 hen help us do some work to create a wildlife friendly habitat. A great ch
 ance to learn more about your local nature reserve and what fun it is to v
 isit.
ATTACH;FMTTYPE=image/jpeg:https://www.colnevalleypark.org.uk/wp-content/up
 loads/2023/08/bug-hunting.jpg
CATEGORIES:Child friendly,Festival Fortnight,Volunteer
LOCATION:Hardings Row Nature Reserve\, At the end of Hardings Row\, Iver He
 ath\, SL0 0HH\, United Kingdom
GEO:51.532729;-0.523515
X-APPLE-STRUCTURED-LOCATION;VALUE=URI;X-ADDRESS=At the end of Hardings Row\
 , Iver Heath\, SL0 0HH\, United Kingdom;X-APPLE-RADIUS=100;X-TITLE=Harding
 s Row Nature Reserve:geo:51.532729,-0.523515
END:VEVENT
BEGIN:VTIMEZONE
TZID:Europe/London
X-LIC-LOCATION:Europe/London
BEGIN:DAYLIGHT
DTSTART:20250330T020000
TZOFFSETFROM:+0000
TZOFFSETTO:+0100
TZNAME:BST
END:DAYLIGHT
END:VTIMEZONE
END:VCALENDAR