BEGIN:VCALENDAR
VERSION:2.0
PRODID:-//wp-events-plugin.com//7.2.3.1//EN
TZID:Europe/London
X-WR-TIMEZONE:Europe/London
BEGIN:VEVENT
UID:1346@colnevalleypark.org.uk
DTSTART;TZID=Europe/London:20250731T133000
DTEND;TZID=Europe/London:20250731T153000
DTSTAMP:20250714T102604Z
URL:https://www.colnevalleypark.org.uk/events/family-bug-hunting-and-habit
 at-creation-in-iver-2/
SUMMARY:Family Bug hunting and habitat creation in Iver
DESCRIPTION:Go on a bug hunt and see what mini beasts you can find\, then h
 elp us do some work to create friendly habitats to encourage more wildlife
 . \nA great chance to volunteer with your children\, learn more about your
  local nature reserve and what fun it is to visit.
ATTACH;FMTTYPE=image/jpeg:https://www.colnevalleypark.org.uk/wp-content/up
 loads/2019/09/bug-hunting.jpg
CATEGORIES:Child friendly,Festival Fortnight,Volunteer
LOCATION:Swan Meadow\, North Field\, Iver\, Buckinghamshire\, SL0 9NG\, Eng
 land
GEO:51.520343;-0.505123
X-APPLE-STRUCTURED-LOCATION;VALUE=URI;X-ADDRESS=North Field\, Iver\, Buckin
 ghamshire\, SL0 9NG\, England;X-APPLE-RADIUS=100;X-TITLE=Swan Meadow:geo:5
 1.520343,-0.505123
END:VEVENT
BEGIN:VTIMEZONE
TZID:Europe/London
X-LIC-LOCATION:Europe/London
BEGIN:DAYLIGHT
DTSTART:20250330T020000
TZOFFSETFROM:+0000
TZOFFSETTO:+0100
TZNAME:BST
END:DAYLIGHT
END:VTIMEZONE
END:VCALENDAR