BEGIN:VCALENDAR
VERSION:2.0
PRODID:-//wp-events-plugin.com//7.2.3.1//EN
TZID:Europe/London
X-WR-TIMEZONE:Europe/London
BEGIN:VEVENT
UID:1454@colnevalleypark.org.uk
DTSTART;TZID=Europe/London:20260328T220000
DTEND;TZID=Europe/London:20260412T170000
DTSTAMP:20260407T100526Z
URL:https://www.colnevalleypark.org.uk/events/easter-trail-at-woodoaks-far
 m/
SUMMARY:Easter Trail at Woodoaks Farm
DESCRIPTION:Join the friendly team at Woodoaks Farm for some fresh air fun 
 for all the family on their Easter Trail.
ATTACH;FMTTYPE=image/jpeg:https://www.colnevalleypark.org.uk/wp-content/up
 loads/2026/04/Woodoaks-Farm-Easter-Trail-Updated.jpg
CATEGORIES:Child friendly
LOCATION:Woodoaks Farm\, Woodoaks Farm Cottages\, Denham Way\, Maple Cross\
 , WD3 9XQ\, United Kingdom
GEO:51.628289;-0.50989
X-APPLE-STRUCTURED-LOCATION;VALUE=URI;X-ADDRESS=Woodoaks Farm Cottages\, De
 nham Way\, Maple Cross\, WD3 9XQ\, United Kingdom;X-APPLE-RADIUS=100;X-TIT
 LE=Woodoaks Farm:geo:51.628289,-0.50989
END:VEVENT
BEGIN:VTIMEZONE
TZID:Europe/London
X-LIC-LOCATION:Europe/London
BEGIN:STANDARD
DTSTART:20251026T010000
TZOFFSETFROM:+0100
TZOFFSETTO:+0000
TZNAME:GMT
END:STANDARD
BEGIN:DAYLIGHT
DTSTART:20260329T020000
TZOFFSETFROM:+0000
TZOFFSETTO:+0100
TZNAME:BST
END:DAYLIGHT
END:VTIMEZONE
END:VCALENDAR