BEGIN:VCALENDAR
VERSION:2.0
PRODID:-//wp-events-plugin.com//7.2.3.1//EN
TZID:Europe/London
X-WR-TIMEZONE:Europe/London
BEGIN:VEVENT
UID:1331@colnevalleypark.org.uk
DTSTART;TZID=Europe/London:20250729T110000
DTEND;TZID=Europe/London:20250729T150000
DTSTAMP:20250707T103328Z
URL:https://www.colnevalleypark.org.uk/events/discover-what-lives-at-stock
 ers-lake-2/
SUMMARY:Life at the Lake
DESCRIPTION:Go along and discover what lives at Stocker’s Lake at this su
 mmer holiday event organised by Herts and Middlesex Wildlife Trust.
ATTACH;FMTTYPE=image/jpeg:https://www.colnevalleypark.org.uk/wp-content/up
 loads/2024/08/HMWT-Wednesday-Summer-Holiday-Event-at-Stockers-Lake.jpeg
CATEGORIES:Child friendly,Festival Fortnight
LOCATION:Stocker's Lake\, Stockers Lake\, Rickmansworth\, Hertfordshire\, W
 D3 1NB\, United Kingdom
GEO:51.633094;-0.472172
X-APPLE-STRUCTURED-LOCATION;VALUE=URI;X-ADDRESS=Stockers Lake\, Rickmanswor
 th\, Hertfordshire\, WD3 1NB\, United Kingdom;X-APPLE-RADIUS=100;X-TITLE=S
 tocker's Lake:geo:51.633094,-0.472172
END:VEVENT
BEGIN:VTIMEZONE
TZID:Europe/London
X-LIC-LOCATION:Europe/London
BEGIN:DAYLIGHT
DTSTART:20250330T020000
TZOFFSETFROM:+0000
TZOFFSETTO:+0100
TZNAME:BST
END:DAYLIGHT
END:VTIMEZONE
END:VCALENDAR