BEGIN:VCALENDAR
VERSION:2.0
PRODID:-//wp-events-plugin.com//7.2.3.1//EN
TZID:Europe/London
X-WR-TIMEZONE:Europe/London
BEGIN:VEVENT
UID:1329@colnevalleypark.org.uk
DTSTART;TZID=Europe/London:20250724T110000
DTEND;TZID=Europe/London:20250724T160000
DTSTAMP:20250627T094351Z
URL:https://www.colnevalleypark.org.uk/events/discover-and-explore-your-lo
 cal-geology-at-northmoor-hill/
SUMMARY:Discover and explore your local geology at Northmoor Hill Wood with
  Bucks Geology Group.
DESCRIPTION:Venture out on guided walks (book your ticket here) led by memb
 ers of the Bucks Geology Group\, who will unravel the secrets of Northmoor
 ’s rocks and landscape. Witness the layers of time beneath your feet and
  learn to identify the stones that have shaped Northmoor. Look and handle 
 the items on the rock and fossil display (no booking needed\, just turn up
 ). Volunteers will be on hand to answer your questions and share remarkabl
 e stories about each find. Look at our geological map – what rocks are b
 eneath your house?
ATTACH;FMTTYPE=image/jpeg:https://www.colnevalleypark.org.uk/wp-content/up
 loads/2025/06/Family-Friendly-Geology-day-at-Northmoor-Hill-Wood-Denham--s
 caled.jpg
CATEGORIES:Festival Fortnight,Guided walks
LOCATION:Northmoor Hill Wood Nature Reserve\, Northmoor Hill Wood Nature Re
 serve\, Denham\, Buckinghamshire\, UB9 5DF\, United Kingdom
GEO:51.592644;-0.504869
X-APPLE-STRUCTURED-LOCATION;VALUE=URI;X-ADDRESS=Northmoor Hill Wood Nature 
 Reserve\, Denham\, Buckinghamshire\, UB9 5DF\, United Kingdom;X-APPLE-RADI
 US=100;X-TITLE=Northmoor Hill Wood Nature Reserve:geo:51.592644,-0.504869
END:VEVENT
BEGIN:VTIMEZONE
TZID:Europe/London
X-LIC-LOCATION:Europe/London
BEGIN:DAYLIGHT
DTSTART:20250330T020000
TZOFFSETFROM:+0000
TZOFFSETTO:+0100
TZNAME:BST
END:DAYLIGHT
END:VTIMEZONE
END:VCALENDAR