BEGIN:VCALENDAR
VERSION:2.0
PRODID:-//wp-events-plugin.com//7.2.3.1//EN
TZID:Europe/London
X-WR-TIMEZONE:Europe/London
BEGIN:VEVENT
UID:1327@colnevalleypark.org.uk
DTSTART;TZID=Europe/London:20250629T150000
DTEND;TZID=Europe/London:20250629T200000
DTSTAMP:20250626T083656Z
URL:https://www.colnevalleypark.org.uk/events/denham-parish-council-summer
 -festival/
SUMMARY:Denham Parish Council Summer Festival
DESCRIPTION:Come along and join Denham Parish Council for their annual summ
 er festival at Martinsfield\, main entrance in Tilehouse Lane. Live Music 
 & Entertainment\, Local Craft and Food Stalls\, Fair Rides and other activ
 ities for all ages.
ATTACH;FMTTYPE=image/jpeg:https://www.colnevalleypark.org.uk/wp-content/up
 loads/2025/06/Poster-for-social-media.png
LOCATION:Martinsfield\, Tilehouse Lane\, Denham\, UB9 5PG\, United Kingdom
GEO:51.577992;-0.502665
X-APPLE-STRUCTURED-LOCATION;VALUE=URI;X-ADDRESS=Tilehouse Lane\, Denham\, U
 B9 5PG\, United Kingdom;X-APPLE-RADIUS=100;X-TITLE=Martinsfield:geo:51.577
 992,-0.502665
END:VEVENT
BEGIN:VTIMEZONE
TZID:Europe/London
X-LIC-LOCATION:Europe/London
BEGIN:DAYLIGHT
DTSTART:20250330T020000
TZOFFSETFROM:+0000
TZOFFSETTO:+0100
TZNAME:BST
END:DAYLIGHT
END:VTIMEZONE
END:VCALENDAR