BEGIN:VCALENDAR
VERSION:2.0
PRODID:-//wp-events-plugin.com//7.2.3.1//EN
TZID:Europe/London
X-WR-TIMEZONE:Europe/London
BEGIN:VEVENT
UID:1298@colnevalleypark.org.uk
DTSTART;TZID=Europe/London:20250720T150000
DTEND;TZID=Europe/London:20250720T170000
DTSTAMP:20250618T102829Z
URL:https://www.colnevalleypark.org.uk/events/denham-parish-council-music-
 on-the-village-green/
SUMMARY:Denham Parish Council - Music on the village green
DESCRIPTION:
ATTACH;FMTTYPE=image/jpeg:https://www.colnevalleypark.org.uk/wp-content/up
 loads/2025/06/Music-Flyer-2025-A4-All.jpg
CATEGORIES:Child friendly,Festival Fortnight
END:VEVENT
BEGIN:VTIMEZONE
TZID:Europe/London
X-LIC-LOCATION:Europe/London
BEGIN:DAYLIGHT
DTSTART:20250330T020000
TZOFFSETFROM:+0000
TZOFFSETTO:+0100
TZNAME:BST
END:DAYLIGHT
END:VTIMEZONE
END:VCALENDAR