BEGIN:VCALENDAR
VERSION:2.0
PRODID:-//wp-events-plugin.com//7.2.3.1//EN
TZID:Europe/London
X-WR-TIMEZONE:Europe/London
BEGIN:VEVENT
UID:1344@colnevalleypark.org.uk
DTSTART;TZID=Europe/London:20250720T000000
DTEND;TZID=Europe/London:20250720T150000
DTSTAMP:20250715T100723Z
URL:https://www.colnevalleypark.org.uk/events/crochet-social-at-southlands
 -arts-centre/
SUMMARY:Crochet Social at Southlands Arts Centre
DESCRIPTION:Southlands Arts invite you to join them for their July Crochet 
 Social. They’re making granny squares to make another blanket to be dona
 ted to Project Linus.
ATTACH;FMTTYPE=image/jpeg:https://www.colnevalleypark.org.uk/wp-content/up
 loads/2025/07/crochet-social-at-Southland-Arts-header.jpg
CATEGORIES:Festival Fortnight,Museum and open days
LOCATION:Southlands Art Centre\, 75 The Green\, West Drayton\, UB7 7PW\, Un
 ited Kingdom
GEO:51.501562;-0.475841
X-APPLE-STRUCTURED-LOCATION;VALUE=URI;X-ADDRESS=75 The Green\, West Drayton
 \, UB7 7PW\, United Kingdom;X-APPLE-RADIUS=100;X-TITLE=Southlands Art Cent
 re:geo:51.501562,-0.475841
END:VEVENT
BEGIN:VTIMEZONE
TZID:Europe/London
X-LIC-LOCATION:Europe/London
BEGIN:DAYLIGHT
DTSTART:20250330T020000
TZOFFSETFROM:+0000
TZOFFSETTO:+0100
TZNAME:BST
END:DAYLIGHT
END:VTIMEZONE
END:VCALENDAR