BEGIN:VCALENDAR
VERSION:2.0
PRODID:-//wp-events-plugin.com//7.2.3.1//EN
TZID:Europe/London
X-WR-TIMEZONE:Europe/London
BEGIN:VEVENT
UID:1324@colnevalleypark.org.uk
DTSTART;TZID=Europe/London:20250718T103000
DTEND;TZID=Europe/London:20250730T160000
DTSTAMP:20250703T112155Z
URL:https://www.colnevalleypark.org.uk/events/chiltern-open-air-museum-spi
 nning-demonstrations/
SUMMARY:18th Century Life at Chiltern Open Air Museum
DESCRIPTION:Visit the Chiltern Open Air Museum and find out what life was l
 ike for the lady who lived in Leagrave Cottage in the 18th Century\; she m
 ight be sewing\, writing\, cooking\, cleaning/polishing or using a traditi
 onal spinning wheel.
ATTACH;FMTTYPE=image/jpeg:https://www.colnevalleypark.org.uk/wp-content/up
 loads/2025/07/Step-Into-The-Past-at-Chiltern-Open-Air-Museum.png
CATEGORIES:Child friendly,Festival Fortnight,Museum and open days
LOCATION:Chiltern Open Air Museum\, Chiltern Open Air Museum\, Newland Park
 \, Chalfont St Giles\, Buckinghamshire\, HP8 4AB\, United Kingdom
GEO:51.634502;-0.543691
X-APPLE-STRUCTURED-LOCATION;VALUE=URI;X-ADDRESS=Chiltern Open Air Museum\, 
 Newland Park\, Chalfont St Giles\, Buckinghamshire\, HP8 4AB\, United King
 dom;X-APPLE-RADIUS=100;X-TITLE=Chiltern Open Air Museum:geo:51.634502,-0.5
 43691
END:VEVENT
BEGIN:VTIMEZONE
TZID:Europe/London
X-LIC-LOCATION:Europe/London
BEGIN:DAYLIGHT
DTSTART:20250330T020000
TZOFFSETFROM:+0000
TZOFFSETTO:+0100
TZNAME:BST
END:DAYLIGHT
END:VTIMEZONE
END:VCALENDAR