BEGIN:VCALENDAR
VERSION:2.0
PRODID:-//wp-events-plugin.com//7.2.3.1//EN
TZID:Europe/London
X-WR-TIMEZONE:Europe/London
BEGIN:VEVENT
UID:1323@colnevalleypark.org.uk
DTSTART;TZID=Europe/London:20250719T100000
DTEND;TZID=Europe/London:20250720T170000
DTSTAMP:20250623T085639Z
URL:https://www.colnevalleypark.org.uk/events/chiltern-open-air-museum-cla
 ssic-vehicle-show-3/
SUMMARY:Chiltern Open Air Museum Classic Vehicle Show
DESCRIPTION:Visit the Chiltern Open Air Museum\, a real gem of the Regional
  Park and see some fantastic vintage vehicles.
ATTACH;FMTTYPE=image/jpeg:https://www.colnevalleypark.org.uk/wp-content/up
 loads/2024/06/Classic-Vehicles-Show-Chiltern-Open-Air-Museum.jpg
CATEGORIES:Festival Fortnight,Museum and open days
LOCATION:Chiltern Open Air Museum\, Chiltern Open Air Museum\, Newland Park
 \, Chalfont St Giles\, Buckinghamshire\, HP8 4AB\, United Kingdom
GEO:51.634502;-0.543691
X-APPLE-STRUCTURED-LOCATION;VALUE=URI;X-ADDRESS=Chiltern Open Air Museum\, 
 Newland Park\, Chalfont St Giles\, Buckinghamshire\, HP8 4AB\, United King
 dom;X-APPLE-RADIUS=100;X-TITLE=Chiltern Open Air Museum:geo:51.634502,-0.5
 43691
END:VEVENT
BEGIN:VTIMEZONE
TZID:Europe/London
X-LIC-LOCATION:Europe/London
BEGIN:DAYLIGHT
DTSTART:20250330T020000
TZOFFSETFROM:+0000
TZOFFSETTO:+0100
TZNAME:BST
END:DAYLIGHT
END:VTIMEZONE
END:VCALENDAR