BEGIN:VCALENDAR
VERSION:2.0
PRODID:-//wp-events-plugin.com//7.2.3.1//EN
TZID:Europe/London
X-WR-TIMEZONE:Europe/London
BEGIN:VEVENT
UID:1248@colnevalleypark.org.uk
DTSTART;TZID=Europe/London:20250517T100000
DTEND;TZID=Europe/London:20250518T170000
DTSTAMP:20250515T144059Z
URL:https://www.colnevalleypark.org.uk/events/batchworth-boat-rally/
SUMMARY:Batchworth Boat Rally
DESCRIPTION:An array of canal boats from across the country – a terrific 
 spectacle\, with at least 100 craft of many types and histories moored alo
 ng the towpath up to four deep\, and things to do\, see and enjoy whatever
  your interests\, and whatever your age.
ATTACH;FMTTYPE=image/jpeg:https://www.colnevalleypark.org.uk/wp-content/up
 loads/2025/05/Batchworth-Boat-Rally-May-2025.png
LOCATION:Batchworth Lock Canal Centre\, Batchworth Lock Canal Centre\, Rick
 mansworth\, Hertfordshire\, WD3 1JD\, United Kingdom
GEO:51.636094;-0.464592
X-APPLE-STRUCTURED-LOCATION;VALUE=URI;X-ADDRESS=Batchworth Lock Canal Centr
 e\, Rickmansworth\, Hertfordshire\, WD3 1JD\, United Kingdom;X-APPLE-RADIU
 S=100;X-TITLE=Batchworth Lock Canal Centre:geo:51.636094,-0.464592
END:VEVENT
BEGIN:VTIMEZONE
TZID:Europe/London
X-LIC-LOCATION:Europe/London
BEGIN:DAYLIGHT
DTSTART:20250330T020000
TZOFFSETFROM:+0000
TZOFFSETTO:+0100
TZNAME:BST
END:DAYLIGHT
END:VTIMEZONE
END:VCALENDAR