BEGIN:VCALENDAR
VERSION:2.0
PRODID:-//wp-events-plugin.com//7.2.3.1//EN
TZID:Europe/London
X-WR-TIMEZONE:Europe/London
BEGIN:VEVENT
UID:310@colnevalleypark.org.uk
DTSTART;TZID=Europe/London:20210701T133000
DTEND;TZID=Europe/London:20210701T160000
DTSTAMP:20210625T140946Z
URL:https://www.colnevalleypark.org.uk/events/balsam-bash-wraysbury/
SUMMARY:Balsam Bash Wraysbury
DESCRIPTION:Help us removed Himalayan Balsam a non native invasive species 
 which is invading and damaging our rivers and wet woodlands. 
ATTACH;FMTTYPE=image/jpeg:https://www.colnevalleypark.org.uk/wp-content/up
 loads/2021/06/01.07.21-Balsam.jpg
END:VEVENT
BEGIN:VTIMEZONE
TZID:Europe/London
X-LIC-LOCATION:Europe/London
BEGIN:DAYLIGHT
DTSTART:20210328T020000
TZOFFSETFROM:+0000
TZOFFSETTO:+0100
TZNAME:BST
END:DAYLIGHT
END:VTIMEZONE
END:VCALENDAR