BEGIN:VCALENDAR
VERSION:2.0
PRODID:-//wp-events-plugin.com//7.2.3.1//EN
TZID:Europe/London
X-WR-TIMEZONE:Europe/London
BEGIN:VEVENT
UID:1102@colnevalleypark.org.uk
DTSTART;TZID=Europe/London:20241111T100000
DTEND;TZID=Europe/London:20241111T113000
DTSTAMP:20241106T191821Z
URL:https://www.colnevalleypark.org.uk/events/ancient-trees-walk-in-ruisli
 p-woods-4/
SUMMARY:Ancient Trees Walk in Ruislip Woods
DESCRIPTION:Join Richard Hutton retired Hillingdon council woodland officer
  to walk through Park Wood part of Ruislip woods and learn about its ancie
 nt trees 
ATTACH;FMTTYPE=image/jpeg:https://www.colnevalleypark.org.uk/wp-content/up
 loads/2024/11/111124AncientTreesWalk.png
CATEGORIES:Guided walks
LOCATION:Ruislip Lido Woodland Centre\, Ruislip Lido\, Reservoir Road\, Rui
 slip\, HA4 7TY\, United Kingdom
GEO:51.588177;-0.431558
X-APPLE-STRUCTURED-LOCATION;VALUE=URI;X-ADDRESS=Ruislip Lido\, Reservoir Ro
 ad\, Ruislip\, HA4 7TY\, United Kingdom;X-APPLE-RADIUS=100;X-TITLE=Ruislip
  Lido Woodland Centre:geo:51.588177,-0.431558
END:VEVENT
BEGIN:VTIMEZONE
TZID:Europe/London
X-LIC-LOCATION:Europe/London
BEGIN:STANDARD
DTSTART:20241027T010000
TZOFFSETFROM:+0100
TZOFFSETTO:+0000
TZNAME:GMT
END:STANDARD
END:VTIMEZONE
END:VCALENDAR