BEGIN:VCALENDAR
VERSION:2.0
PRODID:-//wp-events-plugin.com//7.2.3.1//EN
TZID:Europe/London
X-WR-TIMEZONE:Europe/London
BEGIN:VEVENT
UID:1254@colnevalleypark.org.uk
DTSTART;TZID=Europe/London:20250529T203000
DTEND;TZID=Europe/London:20250529T220000
DTSTAMP:20250519T125122Z
URL:https://www.colnevalleypark.org.uk/events/after-dark-at-iver-environme
 nt-centre-sunset-bat-survey/
SUMMARY:After Dark at Iver Environment Centre - Sunset Bat Survey
DESCRIPTION:Join the team at Iver Environment Centre for a walk after dark 
 around the Centre's grounds to learn about the bats that use the site\, an
 d help carry out a sunset survey!
ATTACH;FMTTYPE=image/jpeg:https://www.colnevalleypark.org.uk/wp-content/up
 loads/2025/05/Bat-Survey.png
LOCATION:Iver Environment Centre\, Slough Road\, Iver\, Buckinghamshire\, S
 L0 0EB\, United Kingdom
GEO:51.539928;-0.500178
X-APPLE-STRUCTURED-LOCATION;VALUE=URI;X-ADDRESS=Slough Road\, Iver\, Buckin
 ghamshire\, SL0 0EB\, United Kingdom;X-APPLE-RADIUS=100;X-TITLE=Iver Envir
 onment Centre:geo:51.539928,-0.500178
END:VEVENT
BEGIN:VTIMEZONE
TZID:Europe/London
X-LIC-LOCATION:Europe/London
BEGIN:DAYLIGHT
DTSTART:20250330T020000
TZOFFSETFROM:+0000
TZOFFSETTO:+0100
TZNAME:BST
END:DAYLIGHT
END:VTIMEZONE
END:VCALENDAR