BEGIN:VCALENDAR
VERSION:2.0
PRODID:-//wp-events-plugin.com//7.2.3.1//EN
TZID:Europe/London
X-WR-TIMEZONE:Europe/London
BEGIN:VEVENT
UID:1332@colnevalleypark.org.uk
DTSTART;TZID=Europe/London:20250712T100000
DTEND;TZID=Europe/London:20250712T160000
DTSTAMP:20250628T082210Z
URL:https://www.colnevalleypark.org.uk/events/a-family-friendly-nature-dis
 covery-day-at-chiltern-open-air-museum/
SUMMARY:Family Friendly Nature Discovery Day at Chiltern Open Air Museum
DESCRIPTION:Explore the Museum’s stunning 45-acre site nestled in the hea
 rt of the Chilterns and uncover the rich diversity of wildlife that calls 
 it home. With hands-on\, family-friendly activities throughout the day\, t
 here’s something for every young explorer and nature lover.
ATTACH;FMTTYPE=image/jpeg:https://www.colnevalleypark.org.uk/wp-content/up
 loads/2025/06/Nature-Discovery-Day-at-COAM.png
CATEGORIES:Child friendly,Museum and open days
LOCATION:Chiltern Open Air Museum\, Chiltern Open Air Museum\, Newland Park
 \, Chalfont St Giles\, Buckinghamshire\, HP8 4AB\, United Kingdom
GEO:51.634502;-0.543691
X-APPLE-STRUCTURED-LOCATION;VALUE=URI;X-ADDRESS=Chiltern Open Air Museum\, 
 Newland Park\, Chalfont St Giles\, Buckinghamshire\, HP8 4AB\, United King
 dom;X-APPLE-RADIUS=100;X-TITLE=Chiltern Open Air Museum:geo:51.634502,-0.5
 43691
END:VEVENT
BEGIN:VTIMEZONE
TZID:Europe/London
X-LIC-LOCATION:Europe/London
BEGIN:DAYLIGHT
DTSTART:20250330T020000
TZOFFSETFROM:+0000
TZOFFSETTO:+0100
TZNAME:BST
END:DAYLIGHT
END:VTIMEZONE
END:VCALENDAR